BEGIN:VCALENDAR
VERSION:2.0
PRODID:-//Porkcolombia - ECPv6.5.0//NONSGML v1.0//EN
CALSCALE:GREGORIAN
METHOD:PUBLISH
X-WR-CALNAME:Porkcolombia
X-ORIGINAL-URL:https://porkcolombia.co
X-WR-CALDESC:Eventos para Porkcolombia
REFRESH-INTERVAL;VALUE=DURATION:PT1H
X-Robots-Tag:noindex
X-PUBLISHED-TTL:PT1H
BEGIN:VTIMEZONE
TZID:America/New_York
BEGIN:DAYLIGHT
TZOFFSETFROM:-0500
TZOFFSETTO:-0400
TZNAME:EDT
DTSTART:20240310T070000
END:DAYLIGHT
BEGIN:STANDARD
TZOFFSETFROM:-0400
TZOFFSETTO:-0500
TZNAME:EST
DTSTART:20241103T060000
END:STANDARD
END:VTIMEZONE
BEGIN:VEVENT
DTSTART;VALUE=DATE:20240901
DTEND;VALUE=DATE:20240902
DTSTAMP:20260419T173011
CREATED:20240830T210614Z
LAST-MODIFIED:20240830T210614Z
UID:25419-1725148800-1725235199@porkcolombia.co
SUMMARY:Unidad Móvil Porkcolombia: Club Cafam Bogotá D.C
DESCRIPTION:
URL:https://porkcolombia.co/eventos/unidad-movil-porkcolombia-club-cafam-bogota-d-c/
END:VEVENT
BEGIN:VEVENT
DTSTART;VALUE=DATE:20240901
DTEND;VALUE=DATE:20240902
DTSTAMP:20260419T173011
CREATED:20240830T210816Z
LAST-MODIFIED:20240830T210816Z
UID:25421-1725148800-1725235199@porkcolombia.co
SUMMARY:Unidad Móvil Porkcolombia: parque principal de Mosquera\, Cundinamarca\, en el Festival Gastronómico : "El sabor de 4 esquinas".
DESCRIPTION:
URL:https://porkcolombia.co/eventos/unidad-movil-porkcolombia-parque-principal-de-mosquera-cundinamarca-en-el-festival-gastronomico-el-sabor-de-4-esquinas/
END:VEVENT
END:VCALENDAR